Package: HiCBricks Version: 1.25.0 Command: /home/biocbuild/bbs-3.21-bioc/R/bin/R CMD check --install=check:HiCBricks.install-out.txt --library=/home/biocbuild/bbs-3.21-bioc/R/site-library --timings HiCBricks_1.25.0.tar.gz StartedAt: 2025-02-20 22:41:07 -0500 (Thu, 20 Feb 2025) EndedAt: 2025-02-20 22:44:10 -0500 (Thu, 20 Feb 2025) EllapsedTime: 183.2 seconds RetCode: 0 Status: OK CheckDir: HiCBricks.Rcheck Warnings: 0