Package: HiCBricks Version: 1.25.0 Command: /home/biocbuild/bbs-3.21-bioc/R/bin/R CMD build --keep-empty-dirs --no-resave-data HiCBricks StartedAt: 2025-02-20 17:46:37 -0500 (Thu, 20 Feb 2025) EndedAt: 2025-02-20 17:47:41 -0500 (Thu, 20 Feb 2025) EllapsedTime: 64.1 seconds RetCode: 0 Status: OK PackageFile: HiCBricks_1.25.0.tar.gz PackageFileSize: 5.133 MiB