Package: HiCBricks Version: 1.25.0 Command: /Library/Frameworks/R.framework/Resources/bin/R CMD check --install=check:HiCBricks.install-out.txt --library=/Library/Frameworks/R.framework/Resources/library --no-vignettes --timings HiCBricks_1.25.0.tar.gz StartedAt: 2025-02-20 20:57:31 -0500 (Thu, 20 Feb 2025) EndedAt: 2025-02-20 21:00:21 -0500 (Thu, 20 Feb 2025) EllapsedTime: 170.4 seconds RetCode: 0 Status: OK CheckDir: HiCBricks.Rcheck Warnings: 0