Package: Herper Version: 1.17.0 Command: E:\biocbuild\bbs-3.21-bioc\R\bin\R.exe CMD INSTALL Herper StartedAt: 2025-02-19 15:29:27 -0500 (Wed, 19 Feb 2025) EndedAt: 2025-02-19 15:29:42 -0500 (Wed, 19 Feb 2025) EllapsedTime: 14.8 seconds RetCode: 0 Status: OK