Package: Herper Version: 1.17.0 Command: rm -rf Herper.buildbin-libdir && mkdir Herper.buildbin-libdir && E:\biocbuild\bbs-3.21-bioc\R\bin\R.exe CMD INSTALL --build --library=Herper.buildbin-libdir Herper_1.17.0.tar.gz StartedAt: 2025-02-20 07:57:28 -0500 (Thu, 20 Feb 2025) EndedAt: 2025-02-20 07:57:45 -0500 (Thu, 20 Feb 2025) EllapsedTime: 17.1 seconds RetCode: 0 Status: OK PackageFile: Herper_1.17.0.zip PackageFileSize: 466.2 KiB