Package: Herper Version: 1.17.0 Command: /Library/Frameworks/R.framework/Resources/bin/R CMD check --install=check:Herper.install-out.txt --library=/Library/Frameworks/R.framework/Resources/library --no-vignettes --timings Herper_1.17.0.tar.gz StartedAt: 2025-02-18 20:51:59 -0500 (Tue, 18 Feb 2025) EndedAt: 2025-02-18 20:53:34 -0500 (Tue, 18 Feb 2025) EllapsedTime: 95.4 seconds RetCode: 0 Status: OK CheckDir: Herper.Rcheck Warnings: 0