Package: Herper Version: 1.17.0 Command: /Library/Frameworks/R.framework/Resources/bin/R CMD build --keep-empty-dirs --no-resave-data Herper StartedAt: 2025-02-19 16:37:15 -0500 (Wed, 19 Feb 2025) EndedAt: 2025-02-19 16:37:19 -0500 (Wed, 19 Feb 2025) EllapsedTime: 4.0 seconds RetCode: 0 Status: OK PackageFile: Herper_1.17.0.tar.gz PackageFileSize: 407.8 KiB