Package: HelloRanges Version: 1.33.0 Command: E:\biocbuild\bbs-3.21-bioc\R\bin\R.exe CMD INSTALL HelloRanges StartedAt: 2025-02-20 16:33:32 -0500 (Thu, 20 Feb 2025) EndedAt: 2025-02-20 16:34:53 -0500 (Thu, 20 Feb 2025) EllapsedTime: 81.9 seconds RetCode: 0 Status: OK