Package: HelloRanges Version: 1.33.0 Command: E:\biocbuild\bbs-3.21-bioc\R\bin\R.exe CMD check --no-multiarch --install=check:HelloRanges.install-out.txt --library=E:\biocbuild\bbs-3.21-bioc\R\library --no-vignettes --timings HelloRanges_1.33.0.tar.gz StartedAt: 2025-02-22 02:38:32 -0500 (Sat, 22 Feb 2025) EndedAt: 2025-02-22 02:44:43 -0500 (Sat, 22 Feb 2025) EllapsedTime: 371.5 seconds RetCode: 0 Status: OK CheckDir: HelloRanges.Rcheck Warnings: 0