Package: HelloRanges Version: 1.33.0 Command: rm -rf HelloRanges.buildbin-libdir && mkdir HelloRanges.buildbin-libdir && E:\biocbuild\bbs-3.21-bioc\R\bin\R.exe CMD INSTALL --build --library=HelloRanges.buildbin-libdir HelloRanges_1.33.0.tar.gz StartedAt: 2025-02-22 08:31:28 -0500 (Sat, 22 Feb 2025) EndedAt: 2025-02-22 08:33:06 -0500 (Sat, 22 Feb 2025) EllapsedTime: 97.8 seconds RetCode: 0 Status: OK PackageFile: HelloRanges_1.33.0.zip PackageFileSize: 978.1 KiB