Package: HelloRanges Version: 1.33.0 Command: /home/biocbuild/bbs-3.21-bioc/R/bin/R CMD INSTALL HelloRanges StartedAt: 2025-02-20 15:53:47 -0500 (Thu, 20 Feb 2025) EndedAt: 2025-02-20 15:54:29 -0500 (Thu, 20 Feb 2025) EllapsedTime: 41.6 seconds RetCode: 0 Status: OK