Package: HelloRanges Version: 1.33.0 Command: /home/biocbuild/bbs-3.21-bioc/R/bin/R CMD build --keep-empty-dirs --no-resave-data HelloRanges StartedAt: 2025-02-20 17:45:26 -0500 (Thu, 20 Feb 2025) EndedAt: 2025-02-20 17:48:52 -0500 (Thu, 20 Feb 2025) EllapsedTime: 206.2 seconds RetCode: 0 Status: OK PackageFile: HelloRanges_1.33.0.tar.gz PackageFileSize: 951.1 KiB