Package: HelloRanges Version: 1.33.0 Command: /Library/Frameworks/R.framework/Resources/bin/R CMD check --install=check:HelloRanges.install-out.txt --library=/Library/Frameworks/R.framework/Resources/library --no-vignettes --timings HelloRanges_1.33.0.tar.gz StartedAt: 2025-02-20 20:56:32 -0500 (Thu, 20 Feb 2025) EndedAt: 2025-02-20 21:02:11 -0500 (Thu, 20 Feb 2025) EllapsedTime: 339.1 seconds RetCode: 0 Status: OK CheckDir: HelloRanges.Rcheck Warnings: 0