Package: HelloRanges Version: 1.33.0 Command: /Library/Frameworks/R.framework/Resources/bin/R CMD build --keep-empty-dirs --no-resave-data HelloRanges StartedAt: 2025-02-20 16:36:32 -0500 (Thu, 20 Feb 2025) EndedAt: 2025-02-20 16:38:08 -0500 (Thu, 20 Feb 2025) EllapsedTime: 96.0 seconds RetCode: 0 Status: OK PackageFile: HelloRanges_1.33.0.tar.gz PackageFileSize: 951.2 KiB