Package: HelloRanges Version: 1.33.0 Command: rm -rf HelloRanges.buildbin-libdir && mkdir HelloRanges.buildbin-libdir && /Users/biocbuild/BBS/utils/build-universal.sh HelloRanges_1.33.0.tar.gz /Library/Frameworks/R.framework/Resources/bin/R HelloRanges.buildbin-libdir StartedAt: 2025-02-20 22:21:47 -0500 (Thu, 20 Feb 2025) EndedAt: 2025-02-20 22:22:05 -0500 (Thu, 20 Feb 2025) EllapsedTime: 18.4 seconds RetCode: 0 Status: OK PackageFile: HelloRanges_1.33.0.tgz PackageFileSize: 954.8 KiB