Package: Heatplus Version: 3.15.0 Command: chmod a+r Heatplus -R && E:\biocbuild\bbs-3.21-bioc\R\bin\R.exe CMD build --keep-empty-dirs --no-resave-data Heatplus StartedAt: 2025-02-20 19:16:07 -0500 (Thu, 20 Feb 2025) EndedAt: 2025-02-20 19:16:55 -0500 (Thu, 20 Feb 2025) EllapsedTime: 48.5 seconds RetCode: 0 Status: OK PackageFile: Heatplus_3.15.0.tar.gz PackageFileSize: 861.3 KiB