Package: Heatplus Version: 3.15.0 Command: /home/biocbuild/bbs-3.21-bioc/R/bin/R CMD check --install=check:Heatplus.install-out.txt --library=/home/biocbuild/bbs-3.21-bioc/R/site-library --timings Heatplus_3.15.0.tar.gz StartedAt: 2025-02-20 22:38:32 -0500 (Thu, 20 Feb 2025) EndedAt: 2025-02-20 22:39:02 -0500 (Thu, 20 Feb 2025) EllapsedTime: 30.0 seconds RetCode: 0 Status: OK CheckDir: Heatplus.Rcheck Warnings: 0