Package: Heatplus Version: 3.15.0 Command: /home/biocbuild/bbs-3.21-bioc/R/bin/R CMD build --keep-empty-dirs --no-resave-data Heatplus StartedAt: 2025-02-20 17:45:23 -0500 (Thu, 20 Feb 2025) EndedAt: 2025-02-20 17:45:38 -0500 (Thu, 20 Feb 2025) EllapsedTime: 15.0 seconds RetCode: 0 Status: OK PackageFile: Heatplus_3.15.0.tar.gz PackageFileSize: 1.183 MiB