Package: Heatplus Version: 3.15.0 Command: /Library/Frameworks/R.framework/Resources/bin/R CMD INSTALL Heatplus StartedAt: 2025-02-21 15:04:03 -0500 (Fri, 21 Feb 2025) EndedAt: 2025-02-21 15:04:42 -0500 (Fri, 21 Feb 2025) EllapsedTime: 39.0 seconds RetCode: 0 Status: OK