Package: Harshlight Version: 1.79.0 Command: /Library/Frameworks/R.framework/Resources/bin/R CMD check --install=check:Harshlight.install-out.txt --library=/Library/Frameworks/R.framework/Resources/library --no-vignettes --timings Harshlight_1.79.0.tar.gz StartedAt: 2025-02-19 20:56:15 -0500 (Wed, 19 Feb 2025) EndedAt: 2025-02-19 20:57:50 -0500 (Wed, 19 Feb 2025) EllapsedTime: 94.5 seconds RetCode: 0 Status: OK CheckDir: Harshlight.Rcheck Warnings: 0