Package: Harshlight Version: 1.79.0 Command: /Library/Frameworks/R.framework/Resources/bin/R CMD build --keep-empty-dirs --no-resave-data Harshlight StartedAt: 2025-02-19 16:36:37 -0500 (Wed, 19 Feb 2025) EndedAt: 2025-02-19 16:36:47 -0500 (Wed, 19 Feb 2025) EllapsedTime: 9.1 seconds RetCode: 0 Status: OK PackageFile: Harshlight_1.79.0.tar.gz PackageFileSize: 268.4 KiB