Package: HarmonizR Version: 1.5.0 Command: /Library/Frameworks/R.framework/Resources/bin/R CMD INSTALL HarmonizR StartedAt: 2025-02-19 15:24:45 -0500 (Wed, 19 Feb 2025) EndedAt: 2025-02-19 15:24:46 -0500 (Wed, 19 Feb 2025) EllapsedTime: 1.0 seconds RetCode: 0 Status: OK