Package: Harman Version: 1.35.0 Command: E:\biocbuild\bbs-3.21-bioc\R\bin\R.exe CMD INSTALL Harman StartedAt: 2025-02-21 16:02:19 -0500 (Fri, 21 Feb 2025) EndedAt: 2025-02-21 16:02:44 -0500 (Fri, 21 Feb 2025) EllapsedTime: 24.8 seconds RetCode: 0 Status: OK