Package: Harman Version: 1.35.0 Command: chmod a+r Harman -R && E:\biocbuild\bbs-3.21-bioc\R\bin\R.exe CMD build --keep-empty-dirs --no-resave-data Harman StartedAt: 2025-02-20 19:15:13 -0500 (Thu, 20 Feb 2025) EndedAt: 2025-02-20 19:19:21 -0500 (Thu, 20 Feb 2025) EllapsedTime: 247.8 seconds RetCode: 0 Status: OK PackageFile: Harman_1.35.0.tar.gz PackageFileSize: 843.4 KiB