Package: Harman Version: 1.35.0 Command: /Library/Frameworks/R.framework/Resources/bin/R CMD check --install=check:Harman.install-out.txt --library=/Library/Frameworks/R.framework/Resources/library --no-vignettes --timings Harman_1.35.0.tar.gz StartedAt: 2025-02-20 20:55:50 -0500 (Thu, 20 Feb 2025) EndedAt: 2025-02-20 20:57:15 -0500 (Thu, 20 Feb 2025) EllapsedTime: 85.0 seconds RetCode: 0 Status: OK CheckDir: Harman.Rcheck Warnings: 0