Package: Harman Version: 1.35.0 Command: /Library/Frameworks/R.framework/Resources/bin/R CMD INSTALL Harman StartedAt: 2025-02-21 15:03:05 -0500 (Fri, 21 Feb 2025) EndedAt: 2025-02-21 15:03:10 -0500 (Fri, 21 Feb 2025) EllapsedTime: 4.7 seconds RetCode: 0 Status: OK