Package: Harman Version: 1.35.0 Command: /Library/Frameworks/R.framework/Resources/bin/R CMD build --keep-empty-dirs --no-resave-data Harman StartedAt: 2025-02-21 16:35:29 -0500 (Fri, 21 Feb 2025) EndedAt: 2025-02-21 16:36:29 -0500 (Fri, 21 Feb 2025) EllapsedTime: 60.6 seconds RetCode: 0 Status: OK PackageFile: Harman_1.35.0.tar.gz PackageFileSize: 2.117 MiB