Package: HTSeqGenie Version: 4.37.1 Command: /home/biocbuild/bbs-3.21-bioc/R/bin/R CMD INSTALL HTSeqGenie StartedAt: 2025-02-20 16:06:14 -0500 (Thu, 20 Feb 2025) EndedAt: 2025-02-20 16:06:15 -0500 (Thu, 20 Feb 2025) EllapsedTime: 1.0 seconds RetCode: 1 Status: ERROR