############################################################################## ############################################################################## ### ### Running command: ### ### /home/biocbuild/bbs-3.21-bioc/R/bin/R CMD build --keep-empty-dirs --no-resave-data HTSeqGenie ### ############################################################################## ############################################################################## * checking for file ‘HTSeqGenie/DESCRIPTION’ ... OK * preparing ‘HTSeqGenie’: * checking DESCRIPTION meta-information ... OK * installing the package to build vignettes ----------------------------------- ERROR: dependency ‘gmapR’ is not available for package ‘HTSeqGenie’ Perhaps try a variation of: install.packages('gmapR') * removing ‘/tmp/RtmpgO27gO/Rinst1865e7df9105c/HTSeqGenie’ ----------------------------------- ERROR: package installation failed