Package: HTSeqGenie Version: 4.37.1 Command: /home/biocbuild/R/R/bin/R CMD INSTALL HTSeqGenie StartedAt: 2025-01-29 20:02:00 -0000 (Wed, 29 Jan 2025) EndedAt: 2025-01-29 20:03:08 -0000 (Wed, 29 Jan 2025) EllapsedTime: 68.1 seconds RetCode: 0 Status: OK