Package: HTSeqGenie Version: 4.37.1 Command: /home/biocbuild/R/R/bin/R CMD build --keep-empty-dirs --no-resave-data HTSeqGenie StartedAt: 2025-01-28 23:39:33 -0000 (Tue, 28 Jan 2025) EndedAt: 2025-01-28 23:42:50 -0000 (Tue, 28 Jan 2025) EllapsedTime: 197.1 seconds RetCode: 0 Status: OK PackageFile: HTSeqGenie_4.37.1.tar.gz PackageFileSize: 2.886 MiB