Package: HPiP Version: 1.13.0 Command: /Library/Frameworks/R.framework/Resources/bin/R CMD build --keep-empty-dirs --no-resave-data HPiP StartedAt: 2025-02-20 17:01:33 -0500 (Thu, 20 Feb 2025) EndedAt: 2025-02-20 17:12:06 -0500 (Thu, 20 Feb 2025) EllapsedTime: 633.0 seconds RetCode: 0 Status: OK PackageFile: HPiP_1.13.0.tar.gz PackageFileSize: 4.566 MiB