Package: HPAanalyze Version: 1.25.0 Command: /Library/Frameworks/R.framework/Resources/bin/R CMD check --install=check:HPAanalyze.install-out.txt --library=/Library/Frameworks/R.framework/Resources/library --no-vignettes --timings HPAanalyze_1.25.0.tar.gz StartedAt: 2025-02-20 21:02:11 -0500 (Thu, 20 Feb 2025) EndedAt: 2025-02-20 21:03:57 -0500 (Thu, 20 Feb 2025) EllapsedTime: 105.5 seconds RetCode: 0 Status: OK CheckDir: HPAanalyze.Rcheck Warnings: 0