Package: HPAanalyze Version: 1.25.0 Command: /Library/Frameworks/R.framework/Resources/bin/R CMD build --keep-empty-dirs --no-resave-data HPAanalyze StartedAt: 2025-02-20 17:01:22 -0500 (Thu, 20 Feb 2025) EndedAt: 2025-02-20 17:02:28 -0500 (Thu, 20 Feb 2025) EllapsedTime: 66.4 seconds RetCode: 0 Status: OK PackageFile: HPAanalyze_1.25.0.tar.gz PackageFileSize: 6.918 MiB