Package: HPAanalyze Version: 1.25.0 Command: /home/biocbuild/R/R/bin/R CMD build --keep-empty-dirs --no-resave-data HPAanalyze StartedAt: 2025-01-28 23:39:24 -0000 (Tue, 28 Jan 2025) EndedAt: 2025-01-28 23:40:25 -0000 (Tue, 28 Jan 2025) EllapsedTime: 61.0 seconds RetCode: 0 Status: OK PackageFile: HPAanalyze_1.25.0.tar.gz PackageFileSize: 6.852 MiB