Package: HMMcopy Version: 1.49.0 Command: rm -rf HMMcopy.buildbin-libdir && mkdir HMMcopy.buildbin-libdir && E:\biocbuild\bbs-3.21-bioc\R\bin\R.exe CMD INSTALL --build --library=HMMcopy.buildbin-libdir HMMcopy_1.49.0.tar.gz StartedAt: 2025-02-21 08:17:44 -0500 (Fri, 21 Feb 2025) EndedAt: 2025-02-21 08:17:52 -0500 (Fri, 21 Feb 2025) EllapsedTime: 8.2 seconds RetCode: 0 Status: OK PackageFile: HMMcopy_1.49.0.zip PackageFileSize: 1.296 MiB