Package: HMMcopy Version: 1.49.0 Command: /home/biocbuild/bbs-3.21-bioc/R/bin/R CMD check --install=check:HMMcopy.install-out.txt --library=/home/biocbuild/bbs-3.21-bioc/R/site-library --timings HMMcopy_1.49.0.tar.gz StartedAt: 2025-02-20 22:46:35 -0500 (Thu, 20 Feb 2025) EndedAt: 2025-02-20 22:47:07 -0500 (Thu, 20 Feb 2025) EllapsedTime: 32.1 seconds RetCode: 0 Status: WARNINGS CheckDir: HMMcopy.Rcheck Warnings: 1