Package: HMMcopy Version: 1.49.0 Command: /home/biocbuild/bbs-3.21-bioc/R/bin/R CMD build --keep-empty-dirs --no-resave-data HMMcopy StartedAt: 2025-02-20 17:49:03 -0500 (Thu, 20 Feb 2025) EndedAt: 2025-02-20 17:49:14 -0500 (Thu, 20 Feb 2025) EllapsedTime: 11.0 seconds RetCode: 0 Status: OK PackageFile: HMMcopy_1.49.0.tar.gz PackageFileSize: 2.145 MiB