Package: HMMcopy Version: 1.49.0 Command: /Library/Frameworks/R.framework/Resources/bin/R CMD INSTALL HMMcopy StartedAt: 2025-02-20 15:03:49 -0500 (Thu, 20 Feb 2025) EndedAt: 2025-02-20 15:04:35 -0500 (Thu, 20 Feb 2025) EllapsedTime: 45.7 seconds RetCode: 0 Status: OK