Package: HMMcopy Version: 1.49.0 Command: /Library/Frameworks/R.framework/Resources/bin/R CMD check --install=check:HMMcopy.install-out.txt --library=/Library/Frameworks/R.framework/Resources/library --no-vignettes --timings HMMcopy_1.49.0.tar.gz StartedAt: 2025-02-20 21:01:32 -0500 (Thu, 20 Feb 2025) EndedAt: 2025-02-20 21:02:16 -0500 (Thu, 20 Feb 2025) EllapsedTime: 43.5 seconds RetCode: 0 Status: WARNINGS CheckDir: HMMcopy.Rcheck Warnings: 1