Package: HMMcopy Version: 1.49.0 Command: /Library/Frameworks/R.framework/Resources/bin/R CMD build --keep-empty-dirs --no-resave-data HMMcopy StartedAt: 2025-02-20 17:00:51 -0500 (Thu, 20 Feb 2025) EndedAt: 2025-02-20 17:01:22 -0500 (Thu, 20 Feb 2025) EllapsedTime: 30.9 seconds RetCode: 0 Status: OK PackageFile: HMMcopy_1.49.0.tar.gz PackageFileSize: 1.773 MiB