Package: HIREewas Version: 1.25.0 Command: /Library/Frameworks/R.framework/Resources/bin/R CMD INSTALL HIREewas StartedAt: 2025-02-19 15:02:30 -0500 (Wed, 19 Feb 2025) EndedAt: 2025-02-19 15:02:36 -0500 (Wed, 19 Feb 2025) EllapsedTime: 5.9 seconds RetCode: 0 Status: OK