Package: HIREewas Version: 1.25.0 Command: /Library/Frameworks/R.framework/Resources/bin/R CMD check --install=check:HIREewas.install-out.txt --library=/Library/Frameworks/R.framework/Resources/library --no-vignettes --timings HIREewas_1.25.0.tar.gz StartedAt: 2025-02-19 19:44:33 -0500 (Wed, 19 Feb 2025) EndedAt: 2025-02-19 19:45:02 -0500 (Wed, 19 Feb 2025) EllapsedTime: 28.3 seconds RetCode: 0 Status: OK CheckDir: HIREewas.Rcheck Warnings: 0