Package: HIBAG Version: 1.43.1 Command: /home/biocbuild/bbs-3.21-bioc/R/bin/R CMD INSTALL HIBAG StartedAt: 2025-02-20 15:02:11 -0500 (Thu, 20 Feb 2025) EndedAt: 2025-02-20 15:02:39 -0500 (Thu, 20 Feb 2025) EllapsedTime: 27.7 seconds RetCode: 0 Status: OK