Package: HIBAG Version: 1.43.1 Command: /home/biocbuild/bbs-3.21-bioc/R/bin/R CMD check --install=check:HIBAG.install-out.txt --library=/home/biocbuild/bbs-3.21-bioc/R/site-library --timings HIBAG_1.43.1.tar.gz StartedAt: 2025-02-20 22:40:10 -0500 (Thu, 20 Feb 2025) EndedAt: 2025-02-20 22:41:15 -0500 (Thu, 20 Feb 2025) EllapsedTime: 65.0 seconds RetCode: 0 Status: OK CheckDir: HIBAG.Rcheck Warnings: 0