Package: HERON Version: 1.5.0 Command: rm -rf HERON.buildbin-libdir && mkdir HERON.buildbin-libdir && /Users/biocbuild/BBS/utils/build-universal.sh HERON_1.5.0.tar.gz /Library/Frameworks/R.framework/Resources/bin/R HERON.buildbin-libdir StartedAt: 2025-02-20 00:36:02 -0500 (Thu, 20 Feb 2025) EndedAt: 2025-02-20 00:36:35 -0500 (Thu, 20 Feb 2025) EllapsedTime: 32.4 seconds RetCode: 0 Status: OK PackageFile: HERON_1.5.0.tgz PackageFileSize: 1.074 MiB