Package: HEM Version: 1.79.0 Command: rm -rf HEM.buildbin-libdir && mkdir HEM.buildbin-libdir && E:\biocbuild\bbs-3.21-bioc\R\bin\R.exe CMD INSTALL --build --library=HEM.buildbin-libdir HEM_1.79.0.tar.gz StartedAt: 2025-02-20 07:57:23 -0500 (Thu, 20 Feb 2025) EndedAt: 2025-02-20 07:57:44 -0500 (Thu, 20 Feb 2025) EllapsedTime: 20.4 seconds RetCode: 0 Status: OK PackageFile: HEM_1.79.0.zip PackageFileSize: 640.2 KiB