Package: HEM Version: 1.79.0 Command: /home/biocbuild/bbs-3.21-bioc/R/bin/R CMD build --keep-empty-dirs --no-resave-data HEM StartedAt: 2025-02-19 17:36:15 -0500 (Wed, 19 Feb 2025) EndedAt: 2025-02-19 17:36:24 -0500 (Wed, 19 Feb 2025) EllapsedTime: 9.0 seconds RetCode: 0 Status: OK PackageFile: HEM_1.79.0.tar.gz PackageFileSize: 611.7 KiB