Package: HEM Version: 1.79.0 Command: /Library/Frameworks/R.framework/Resources/bin/R CMD INSTALL HEM StartedAt: 2025-02-19 15:04:41 -0500 (Wed, 19 Feb 2025) EndedAt: 2025-02-19 15:04:57 -0500 (Wed, 19 Feb 2025) EllapsedTime: 15.8 seconds RetCode: 0 Status: OK