Package: HEM Version: 1.79.0 Command: /Library/Frameworks/R.framework/Resources/bin/R CMD check --install=check:HEM.install-out.txt --library=/Library/Frameworks/R.framework/Resources/library --no-vignettes --timings HEM_1.79.0.tar.gz StartedAt: 2025-02-19 20:57:01 -0500 (Wed, 19 Feb 2025) EndedAt: 2025-02-19 20:57:40 -0500 (Wed, 19 Feb 2025) EllapsedTime: 39.0 seconds RetCode: 0 Status: OK CheckDir: HEM.Rcheck Warnings: 0